{"text_format":"2","workbook":"xlsx","n_sheets":7,"sheets":["Export Summary","Natural Yeast - Pizza","Natural Yeast - Bread","Natural Yeast - Drawings","Dry Yeast - Pizza","Dry Yeast - Bread","Dry Yeast - Drawings"],"not_rendered":{"charts":0,"images":0,"macros":0,"external_links":0,"defined_names":0,"comments":0,"pivot_tables":0},"unopened":[],"bounds":{"document_bytes":16777216,"sheet_cells":100000,"run_cost":"one","rows_first":2000,"rows_last":500,"rows_between":2000,"halvings":0,"cell_chars":16384,"cell_head_chars":4096},"cells_cut":0,"cells_raw":0,"read":"whole","date_system":"1904"}

{"sheet":"Export Summary","index":0,"n_rows":16,"n_cols":4,"rows_kept":16,"cut":false,"hidden":false,"merged":[[2,1,2,3]]}
[]
[]
[null,"This document was exported from Numbers.  Each table was converted to an Excel worksheet. All other objects on each Numbers sheet were placed on separate worksheets. Please be aware that formula calculations may differ in Excel."]
[]
[]
[]
[null,"Numbers Sheet Name","Numbers Table Name","Excel Worksheet Name"]
[]
[null,"Natural Yeast"]
[null,null,"Pizza","Natural Yeast - Pizza"]
[null,null,"Bread","Natural Yeast - Bread"]
[null,null,"“All Drawings from the Sheet”","Natural Yeast - Drawings"]
[null,"Dry Yeast"]
[null,null,"Pizza","Dry Yeast - Pizza"]
[null,null,"Bread","Dry Yeast - Bread"]
[null,null,"“All Drawings from the Sheet”","Dry Yeast - Drawings"]

{"sheet":"Natural Yeast - Pizza","index":1,"n_rows":30,"n_cols":12,"rows_kept":30,"cut":false,"hidden":false,"merged":[[0,0,0,11],[17,0,22,0],[10,0,16,0],[23,0,29,0],[3,0,9,0]]}
["Pizza"]
[null,"F","W","S","Y.1H","Y.2H","Y.3H","Y.4H","Y.5H","Y.6H","Y.7H","Y.8H"]
[null,1,0.7,0.02,0.036,0.018,0.012,0.008999999999999999,0.0072,0.006,0.0051,0.0045]
[null,120,{"$f":"$B4*C$3","v":84},{"$f":"$B4*D$3","v":2.4},{"$f":"$B4*E$3","v":4.319999999999999},{"$f":"$B4*F$3","v":2.16},{"$f":"$B4*G$3","v":1.44},{"$f":"$B4*H$3","v":1.08},{"$f":"$B4*I$3","v":0.864},{"$f":"$B4*J$3","v":0.72},{"$f":"$B4*K$3","v":0.6120000000000001},{"$f":"$B4*L$3","v":0.5399999999999999}]
[null,130,{"$f":"$B5*C$3","v":91},{"$f":"$B5*D$3","v":2.6},{"$f":"$B5*E$3","v":4.68},{"$f":"$B5*F$3","v":2.34},{"$f":"$B5*G$3","v":1.56},{"$f":"$B5*H$3","v":1.17},{"$f":"$B5*I$3","v":0.9359999999999999},{"$f":"$B5*J$3","v":0.78},{"$f":"$B5*K$3","v":0.663},{"$f":"$B5*L$3","v":0.585}]
[null,140,{"$f":"$B6*C$3","v":98},{"$f":"$B6*D$3","v":2.8},{"$f":"$B6*E$3","v":5.04},{"$f":"$B6*F$3","v":2.52},{"$f":"$B6*G$3","v":1.68},{"$f":"$B6*H$3","v":1.26},{"$f":"$B6*I$3","v":1.008},{"$f":"$B6*J$3","v":0.84},{"$f":"$B6*K$3","v":0.7140000000000001},{"$f":"$B6*L$3","v":0.63}]
[null,150,{"$f":"$B7*C$3","v":105},{"$f":"$B7*D$3","v":3},{"$f":"$B7*E$3","v":5.399999999999999},{"$f":"$B7*F$3","v":2.7},{"$f":"$B7*G$3","v":1.8},{"$f":"$B7*H$3","v":1.35},{"$f":"$B7*I$3","v":1.08},{"$f":"$B7*J$3","v":0.9},{"$f":"$B7*K$3","v":0.765},{"$f":"$B7*L$3","v":0.6749999999999999}]
[null,160,{"$f":"$B8*C$3","v":112},{"$f":"$B8*D$3","v":3.2},{"$f":"$B8*E$3","v":5.76},{"$f":"$B8*F$3","v":2.88},{"$f":"$B8*G$3","v":1.92},{"$f":"$B8*H$3","v":1.44},{"$f":"$B8*I$3","v":1.152},{"$f":"$B8*J$3","v":0.96},{"$f":"$B8*K$3","v":0.8160000000000001},{"$f":"$B8*L$3","v":0.72}]
[null,170,{"$f":"$B9*C$3","v":119},{"$f":"$B9*D$3","v":3.4},{"$f":"$B9*E$3","v":6.119999999999999},{"$f":"$B9*F$3","v":3.06},{"$f":"$B9*G$3","v":2.04},{"$f":"$B9*H$3","v":1.53},{"$f":"$B9*I$3","v":1.224},{"$f":"$B9*J$3","v":1.02},{"$f":"$B9*K$3","v":0.8670000000000001},{"$f":"$B9*L$3","v":0.7649999999999999}]
[null,180,{"$f":"$B10*C$3","v":126},{"$f":"$B10*D$3","v":3.6},{"$f":"$B10*E$3","v":6.48},{"$f":"$B10*F$3","v":3.24},{"$f":"$B10*G$3","v":2.16},{"$f":"$B10*H$3","v":1.62},{"$f":"$B10*I$3","v":1.296},{"$f":"$B10*J$3","v":1.08},{"$f":"$B10*K$3","v":0.918},{"$f":"$B10*L$3","v":0.8099999999999999}]
[null,{"$f":"B4*2","v":240},{"$f":"$B11*C$3","v":168},{"$f":"$B11*D$3","v":4.8},{"$f":"$B11*E$3","v":8.639999999999999},{"$f":"$B11*F$3","v":4.319999999999999},{"$f":"$B11*G$3","v":2.88},{"$f":"$B11*H$3","v":2.16},{"$f":"$B11*I$3","v":1.728},{"$f":"$B11*J$3","v":1.44},{"$f":"$B11*K$3","v":1.224},{"$f":"$B11*L$3","v":1.08}]
[null,{"$f":"B5*2","v":260},{"$f":"$B12*C$3","v":182},{"$f":"$B12*D$3","v":5.2},{"$f":"$B12*E$3","v":9.359999999999999},{"$f":"$B12*F$3","v":4.68},{"$f":"$B12*G$3","v":3.12},{"$f":"$B12*H$3","v":2.34},{"$f":"$B12*I$3","v":1.872},{"$f":"$B12*J$3","v":1.56},{"$f":"$B12*K$3","v":1.326},{"$f":"$B12*L$3","v":1.17}]
[null,{"$f":"B6*2","v":280},{"$f":"$B13*C$3","v":196},{"$f":"$B13*D$3","v":5.600000000000001},{"$f":"$B13*E$3","v":10.08},{"$f":"$B13*F$3","v":5.04},{"$f":"$B13*G$3","v":3.36},{"$f":"$B13*H$3","v":2.52},{"$f":"$B13*I$3","v":2.016},{"$f":"$B13*J$3","v":1.68},{"$f":"$B13*K$3","v":1.428},{"$f":"$B13*L$3","v":1.26}]
[null,{"$f":"B7*2","v":300},{"$f":"$B14*C$3","v":210},{"$f":"$B14*D$3","v":6},{"$f":"$B14*E$3","v":10.8},{"$f":"$B14*F$3","v":5.399999999999999},{"$f":"$B14*G$3","v":3.6},{"$f":"$B14*H$3","v":2.7},{"$f":"$B14*I$3","v":2.16},{"$f":"$B14*J$3","v":1.8},{"$f":"$B14*K$3","v":1.53},{"$f":"$B14*L$3","v":1.35}]
[null,{"$f":"B8*2","v":320},{"$f":"$B15*C$3","v":224},{"$f":"$B15*D$3","v":6.4},{"$f":"$B15*E$3","v":11.52},{"$f":"$B15*F$3","v":5.76},{"$f":"$B15*G$3","v":3.84},{"$f":"$B15*H$3","v":2.88},{"$f":"$B15*I$3","v":2.304},{"$f":"$B15*J$3","v":1.92},{"$f":"$B15*K$3","v":1.632},{"$f":"$B15*L$3","v":1.44}]
[null,{"$f":"B9*2","v":340},{"$f":"$B16*C$3","v":238},{"$f":"$B16*D$3","v":6.8},{"$f":"$B16*E$3","v":12.24},{"$f":"$B16*F$3","v":6.119999999999999},{"$f":"$B16*G$3","v":4.08},{"$f":"$B16*H$3","v":3.06},{"$f":"$B16*I$3","v":2.448},{"$f":"$B16*J$3","v":2.04},{"$f":"$B16*K$3","v":1.734},{"$f":"$B16*L$3","v":1.53}]
[null,{"$f":"B10*2","v":360},{"$f":"$B17*C$3","v":252},{"$f":"$B17*D$3","v":7.2},{"$f":"$B17*E$3","v":12.96},{"$f":"$B17*F$3","v":6.48},{"$f":"$B17*G$3","v":4.32},{"$f":"$B17*H$3","v":3.24},{"$f":"$B17*I$3","v":2.592},{"$f":"$B17*J$3","v":2.16},{"$f":"$B17*K$3","v":1.836},{"$f":"$B17*L$3","v":1.62}]
[null,{"$f":"B5*3","v":390},{"$f":"$B18*C$3","v":273},{"$f":"$B18*D$3","v":7.8},{"$f":"$B18*E$3","v":14.04},{"$f":"$B18*F$3","v":7.02},{"$f":"$B18*G$3","v":4.68},{"$f":"$B18*H$3","v":3.51},{"$f":"$B18*I$3","v":2.808},{"$f":"$B18*J$3","v":2.34},{"$f":"$B18*K$3","v":1.989},{"$f":"$B18*L$3","v":1.755}]
[null,{"$f":"B6*3","v":420},{"$f":"$B19*C$3","v":294},{"$f":"$B19*D$3","v":8.4},{"$f":"$B19*E$3","v":15.12},{"$f":"$B19*F$3","v":7.56},{"$f":"$B19*G$3","v":5.04},{"$f":"$B19*H$3","v":3.78},{"$f":"$B19*I$3","v":3.024},{"$f":"$B19*J$3","v":2.52},{"$f":"$B19*K$3","v":2.142},{"$f":"$B19*L$3","v":1.89}]
[null,{"$f":"B7*3","v":450},{"$f":"$B20*C$3","v":315},{"$f":"$B20*D$3","v":9},{"$f":"$B20*E$3","v":16.2},{"$f":"$B20*F$3","v":8.1},{"$f":"$B20*G$3","v":5.4},{"$f":"$B20*H$3","v":4.05},{"$f":"$B20*I$3","v":3.24},{"$f":"$B20*J$3","v":2.7},{"$f":"$B20*K$3","v":2.295},{"$f":"$B20*L$3","v":2.025}]
[null,{"$f":"B8*3","v":480},{"$f":"$B21*C$3","v":336},{"$f":"$B21*D$3","v":9.6},{"$f":"$B21*E$3","v":17.28},{"$f":"$B21*F$3","v":8.639999999999999},{"$f":"$B21*G$3","v":5.76},{"$f":"$B21*H$3","v":4.319999999999999},{"$f":"$B21*I$3","v":3.456},{"$f":"$B21*J$3","v":2.88},{"$f":"$B21*K$3","v":2.448},{"$f":"$B21*L$3","v":2.16}]
[null,{"$f":"B9*3","v":510},{"$f":"$B22*C$3","v":357},{"$f":"$B22*D$3","v":10.2},{"$f":"$B22*E$3","v":18.36},{"$f":"$B22*F$3","v":9.18},{"$f":"$B22*G$3","v":6.12},{"$f":"$B22*H$3","v":4.59},{"$f":"$B22*I$3","v":3.672},{"$f":"$B22*J$3","v":3.06},{"$f":"$B22*K$3","v":2.601},{"$f":"$B22*L$3","v":2.295}]
[null,{"$f":"B10*3","v":540},{"$f":"$B23*C$3","v":378},{"$f":"$B23*D$3","v":10.8},{"$f":"$B23*E$3","v":19.44},{"$f":"$B23*F$3","v":9.719999999999999},{"$f":"$B23*G$3","v":6.48},{"$f":"$B23*H$3","v":4.859999999999999},{"$f":"$B23*I$3","v":3.888},{"$f":"$B23*J$3","v":3.24},{"$f":"$B23*K$3","v":2.754},{"$f":"$B23*L$3","v":2.43}]
[null,{"$f":"B4*4","v":480},{"$f":"$B24*C$3","v":336},{"$f":"$B24*D$3","v":9.6},{"$f":"$B24*E$3","v":17.28},{"$f":"$B24*F$3","v":8.639999999999999},{"$f":"$B24*G$3","v":5.76},{"$f":"$B24*H$3","v":4.319999999999999},{"$f":"$B24*I$3","v":3.456},{"$f":"$B24*J$3","v":2.88},{"$f":"$B24*K$3","v":2.448},{"$f":"$B24*L$3","v":2.16}]
[null,{"$f":"B5*4","v":520},{"$f":"$B25*C$3","v":364},{"$f":"$B25*D$3","v":10.4},{"$f":"$B25*E$3","v":18.72},{"$f":"$B25*F$3","v":9.359999999999999},{"$f":"$B25*G$3","v":6.24},{"$f":"$B25*H$3","v":4.68},{"$f":"$B25*I$3","v":3.744},{"$f":"$B25*J$3","v":3.12},{"$f":"$B25*K$3","v":2.652},{"$f":"$B25*L$3","v":2.34}]
[null,{"$f":"B6*4","v":560},{"$f":"$B26*C$3","v":392},{"$f":"$B26*D$3","v":11.2},{"$f":"$B26*E$3","v":20.16},{"$f":"$B26*F$3","v":10.08},{"$f":"$B26*G$3","v":6.72},{"$f":"$B26*H$3","v":5.04},{"$f":"$B26*I$3","v":4.032},{"$f":"$B26*J$3","v":3.36},{"$f":"$B26*K$3","v":2.856},{"$f":"$B26*L$3","v":2.52}]
[null,{"$f":"B7*4","v":600},{"$f":"$B27*C$3","v":420},{"$f":"$B27*D$3","v":12},{"$f":"$B27*E$3","v":21.6},{"$f":"$B27*F$3","v":10.8},{"$f":"$B27*G$3","v":7.2},{"$f":"$B27*H$3","v":5.399999999999999},{"$f":"$B27*I$3","v":4.32},{"$f":"$B27*J$3","v":3.6},{"$f":"$B27*K$3","v":3.06},{"$f":"$B27*L$3","v":2.7}]
[null,{"$f":"B8*4","v":640},{"$f":"$B28*C$3","v":448},{"$f":"$B28*D$3","v":12.8},{"$f":"$B28*E$3","v":23.04},{"$f":"$B28*F$3","v":11.52},{"$f":"$B28*G$3","v":7.68},{"$f":"$B28*H$3","v":5.76},{"$f":"$B28*I$3","v":4.608},{"$f":"$B28*J$3","v":3.84},{"$f":"$B28*K$3","v":3.264},{"$f":"$B28*L$3","v":2.88}]
[null,{"$f":"B9*4","v":680},{"$f":"$B29*C$3","v":475.9999999999999},{"$f":"$B29*D$3","v":13.6},{"$f":"$B29*E$3","v":24.48},{"$f":"$B29*F$3","v":12.24},{"$f":"$B29*G$3","v":8.16},{"$f":"$B29*H$3","v":6.119999999999999},{"$f":"$B29*I$3","v":4.896},{"$f":"$B29*J$3","v":4.08},{"$f":"$B29*K$3","v":3.468},{"$f":"$B29*L$3","v":3.06}]
[null,{"$f":"B10*4","v":720},{"$f":"$B30*C$3","v":503.9999999999999},{"$f":"$B30*D$3","v":14.4},{"$f":"$B30*E$3","v":25.92},{"$f":"$B30*F$3","v":12.96},{"$f":"$B30*G$3","v":8.640000000000001},{"$f":"$B30*H$3","v":6.48},{"$f":"$B30*I$3","v":5.184},{"$f":"$B30*J$3","v":4.32},{"$f":"$B30*K$3","v":3.672},{"$f":"$B30*L$3","v":3.24}]

{"sheet":"Natural Yeast - Bread","index":2,"n_rows":30,"n_cols":11,"rows_kept":30,"cut":false,"hidden":false,"merged":[[0,0,0,10]]}
["Bread"]
["F","W","S","Y.1H","Y.2H","Y.3H","Y.4H","Y.5H","Y.6H","Y.7H","Y.8H"]
[1,0.72,0.02,0.07199999999999999,0.036,0.018,0.012,0.008999999999999999,0.0072,0.006,0.0051]
[100,{"$f":"$A4*B$3","v":72},{"$f":"$A4*C$3","v":2},{"$f":"$A4*D$3","v":7.199999999999999},{"$f":"$A4*E$3","v":3.6},{"$f":"$A4*F$3","v":1.8},{"$f":"$A4*G$3","v":1.2},{"$f":"$A4*H$3","v":0.8999999999999999},{"$f":"$A4*I$3","v":0.72},{"$f":"$A4*J$3","v":0.6},{"$f":"$A4*K$3","v":0.51}]
[150,{"$f":"$A5*B$3","v":108},{"$f":"$A5*C$3","v":3},{"$f":"$A5*D$3","v":10.8},{"$f":"$A5*E$3","v":5.399999999999999},{"$f":"$A5*F$3","v":2.7},{"$f":"$A5*G$3","v":1.8},{"$f":"$A5*H$3","v":1.35},{"$f":"$A5*I$3","v":1.08},{"$f":"$A5*J$3","v":0.9},{"$f":"$A5*K$3","v":0.765}]
[200,{"$f":"$A6*B$3","v":144},{"$f":"$A6*C$3","v":4},{"$f":"$A6*D$3","v":14.4},{"$f":"$A6*E$3","v":7.199999999999999},{"$f":"$A6*F$3","v":3.6},{"$f":"$A6*G$3","v":2.4},{"$f":"$A6*H$3","v":1.8},{"$f":"$A6*I$3","v":1.44},{"$f":"$A6*J$3","v":1.2},{"$f":"$A6*K$3","v":1.02}]
[250,{"$f":"$A7*B$3","v":180},{"$f":"$A7*C$3","v":5},{"$f":"$A7*D$3","v":18},{"$f":"$A7*E$3","v":9},{"$f":"$A7*F$3","v":4.5},{"$f":"$A7*G$3","v":3},{"$f":"$A7*H$3","v":2.25},{"$f":"$A7*I$3","v":1.8},{"$f":"$A7*J$3","v":1.5},{"$f":"$A7*K$3","v":1.275}]
[300,{"$f":"$A8*B$3","v":216},{"$f":"$A8*C$3","v":6},{"$f":"$A8*D$3","v":21.6},{"$f":"$A8*E$3","v":10.8},{"$f":"$A8*F$3","v":5.399999999999999},{"$f":"$A8*G$3","v":3.6},{"$f":"$A8*H$3","v":2.7},{"$f":"$A8*I$3","v":2.16},{"$f":"$A8*J$3","v":1.8},{"$f":"$A8*K$3","v":1.53}]
[350,{"$f":"$A9*B$3","v":252},{"$f":"$A9*C$3","v":7},{"$f":"$A9*D$3","v":25.2},{"$f":"$A9*E$3","v":12.6},{"$f":"$A9*F$3","v":6.3},{"$f":"$A9*G$3","v":4.2},{"$f":"$A9*H$3","v":3.15},{"$f":"$A9*I$3","v":2.52},{"$f":"$A9*J$3","v":2.1},{"$f":"$A9*K$3","v":1.785}]
[400,{"$f":"$A10*B$3","v":288},{"$f":"$A10*C$3","v":8},{"$f":"$A10*D$3","v":28.8},{"$f":"$A10*E$3","v":14.4},{"$f":"$A10*F$3","v":7.199999999999999},{"$f":"$A10*G$3","v":4.8},{"$f":"$A10*H$3","v":3.6},{"$f":"$A10*I$3","v":2.88},{"$f":"$A10*J$3","v":2.4},{"$f":"$A10*K$3","v":2.04}]
[450,{"$f":"$A11*B$3","v":324},{"$f":"$A11*C$3","v":9},{"$f":"$A11*D$3","v":32.4},{"$f":"$A11*E$3","v":16.2},{"$f":"$A11*F$3","v":8.1},{"$f":"$A11*G$3","v":5.4},{"$f":"$A11*H$3","v":4.05},{"$f":"$A11*I$3","v":3.24},{"$f":"$A11*J$3","v":2.7},{"$f":"$A11*K$3","v":2.295}]
[500,{"$f":"$A12*B$3","v":360},{"$f":"$A12*C$3","v":10},{"$f":"$A12*D$3","v":36},{"$f":"$A12*E$3","v":18},{"$f":"$A12*F$3","v":9},{"$f":"$A12*G$3","v":6},{"$f":"$A12*H$3","v":4.5},{"$f":"$A12*I$3","v":3.6},{"$f":"$A12*J$3","v":3},{"$f":"$A12*K$3","v":2.55}]
[550,{"$f":"$A13*B$3","v":396},{"$f":"$A13*C$3","v":11},{"$f":"$A13*D$3","v":39.59999999999999},{"$f":"$A13*E$3","v":19.8},{"$f":"$A13*F$3","v":9.899999999999999},{"$f":"$A13*G$3","v":6.600000000000001},{"$f":"$A13*H$3","v":4.949999999999999},{"$f":"$A13*I$3","v":3.96},{"$f":"$A13*J$3","v":3.3},{"$f":"$A13*K$3","v":2.805}]
[600,{"$f":"$A14*B$3","v":432},{"$f":"$A14*C$3","v":12},{"$f":"$A14*D$3","v":43.2},{"$f":"$A14*E$3","v":21.6},{"$f":"$A14*F$3","v":10.8},{"$f":"$A14*G$3","v":7.2},{"$f":"$A14*H$3","v":5.399999999999999},{"$f":"$A14*I$3","v":4.32},{"$f":"$A14*J$3","v":3.6},{"$f":"$A14*K$3","v":3.06}]
[650,{"$f":"$A15*B$3","v":468},{"$f":"$A15*C$3","v":13},{"$f":"$A15*D$3","v":46.8},{"$f":"$A15*E$3","v":23.4},{"$f":"$A15*F$3","v":11.7},{"$f":"$A15*G$3","v":7.8},{"$f":"$A15*H$3","v":5.85},{"$f":"$A15*I$3","v":4.68},{"$f":"$A15*J$3","v":3.9},{"$f":"$A15*K$3","v":3.315}]
[700,{"$f":"$A16*B$3","v":504},{"$f":"$A16*C$3","v":14},{"$f":"$A16*D$3","v":50.4},{"$f":"$A16*E$3","v":25.2},{"$f":"$A16*F$3","v":12.6},{"$f":"$A16*G$3","v":8.4},{"$f":"$A16*H$3","v":6.3},{"$f":"$A16*I$3","v":5.04},{"$f":"$A16*J$3","v":4.2},{"$f":"$A16*K$3","v":3.57}]
[750,{"$f":"$A17*B$3","v":540},{"$f":"$A17*C$3","v":15},{"$f":"$A17*D$3","v":53.99999999999999},{"$f":"$A17*E$3","v":27},{"$f":"$A17*F$3","v":13.5},{"$f":"$A17*G$3","v":9},{"$f":"$A17*H$3","v":6.749999999999999},{"$f":"$A17*I$3","v":5.399999999999999},{"$f":"$A17*J$3","v":4.5},{"$f":"$A17*K$3","v":3.825}]
[800,{"$f":"$A18*B$3","v":576},{"$f":"$A18*C$3","v":16},{"$f":"$A18*D$3","v":57.59999999999999},{"$f":"$A18*E$3","v":28.8},{"$f":"$A18*F$3","v":14.4},{"$f":"$A18*G$3","v":9.6},{"$f":"$A18*H$3","v":7.199999999999999},{"$f":"$A18*I$3","v":5.76},{"$f":"$A18*J$3","v":4.8},{"$f":"$A18*K$3","v":4.08}]
[850,{"$f":"$A19*B$3","v":612},{"$f":"$A19*C$3","v":17},{"$f":"$A19*D$3","v":61.2},{"$f":"$A19*E$3","v":30.6},{"$f":"$A19*F$3","v":15.3},{"$f":"$A19*G$3","v":10.2},{"$f":"$A19*H$3","v":7.649999999999999},{"$f":"$A19*I$3","v":6.12},{"$f":"$A19*J$3","v":5.100000000000001},{"$f":"$A19*K$3","v":4.335}]
[900,{"$f":"$A20*B$3","v":648},{"$f":"$A20*C$3","v":18},{"$f":"$A20*D$3","v":64.8},{"$f":"$A20*E$3","v":32.4},{"$f":"$A20*F$3","v":16.2},{"$f":"$A20*G$3","v":10.8},{"$f":"$A20*H$3","v":8.1},{"$f":"$A20*I$3","v":6.48},{"$f":"$A20*J$3","v":5.4},{"$f":"$A20*K$3","v":4.590000000000001}]
[950,{"$f":"$A21*B$3","v":684},{"$f":"$A21*C$3","v":19},{"$f":"$A21*D$3","v":68.39999999999999},{"$f":"$A21*E$3","v":34.2},{"$f":"$A21*F$3","v":17.1},{"$f":"$A21*G$3","v":11.4},{"$f":"$A21*H$3","v":8.549999999999999},{"$f":"$A21*I$3","v":6.84},{"$f":"$A21*J$3","v":5.7},{"$f":"$A21*K$3","v":4.845000000000001}]
[1000,{"$f":"$A22*B$3","v":720},{"$f":"$A22*C$3","v":20},{"$f":"$A22*D$3","v":72},{"$f":"$A22*E$3","v":36},{"$f":"$A22*F$3","v":18},{"$f":"$A22*G$3","v":12},{"$f":"$A22*H$3","v":9},{"$f":"$A22*I$3","v":7.2},{"$f":"$A22*J$3","v":6},{"$f":"$A22*K$3","v":5.100000000000001}]
[1050,{"$f":"$A23*B$3","v":756},{"$f":"$A23*C$3","v":21},{"$f":"$A23*D$3","v":75.59999999999999},{"$f":"$A23*E$3","v":37.8},{"$f":"$A23*F$3","v":18.9},{"$f":"$A23*G$3","v":12.6},{"$f":"$A23*H$3","v":9.449999999999999},{"$f":"$A23*I$3","v":7.56},{"$f":"$A23*J$3","v":6.3},{"$f":"$A23*K$3","v":5.355}]
[1100,{"$f":"$A24*B$3","v":792},{"$f":"$A24*C$3","v":22},{"$f":"$A24*D$3","v":79.19999999999999},{"$f":"$A24*E$3","v":39.59999999999999},{"$f":"$A24*F$3","v":19.8},{"$f":"$A24*G$3","v":13.2},{"$f":"$A24*H$3","v":9.899999999999999},{"$f":"$A24*I$3","v":7.92},{"$f":"$A24*J$3","v":6.600000000000001},{"$f":"$A24*K$3","v":5.61}]
[1150,{"$f":"$A25*B$3","v":828},{"$f":"$A25*C$3","v":23},{"$f":"$A25*D$3","v":82.8},{"$f":"$A25*E$3","v":41.4},{"$f":"$A25*F$3","v":20.7},{"$f":"$A25*G$3","v":13.8},{"$f":"$A25*H$3","v":10.35},{"$f":"$A25*I$3","v":8.279999999999999},{"$f":"$A25*J$3","v":6.9},{"$f":"$A25*K$3","v":5.865}]
[1200,{"$f":"$A26*B$3","v":864},{"$f":"$A26*C$3","v":24},{"$f":"$A26*D$3","v":86.39999999999999},{"$f":"$A26*E$3","v":43.2},{"$f":"$A26*F$3","v":21.6},{"$f":"$A26*G$3","v":14.4},{"$f":"$A26*H$3","v":10.8},{"$f":"$A26*I$3","v":8.640000000000001},{"$f":"$A26*J$3","v":7.2},{"$f":"$A26*K$3","v":6.12}]
[1250,{"$f":"$A27*B$3","v":900},{"$f":"$A27*C$3","v":25},{"$f":"$A27*D$3","v":90},{"$f":"$A27*E$3","v":45},{"$f":"$A27*F$3","v":22.5},{"$f":"$A27*G$3","v":15},{"$f":"$A27*H$3","v":11.25},{"$f":"$A27*I$3","v":9},{"$f":"$A27*J$3","v":7.5},{"$f":"$A27*K$3","v":6.375000000000001}]
[1300,{"$f":"$A28*B$3","v":936},{"$f":"$A28*C$3","v":26},{"$f":"$A28*D$3","v":93.59999999999999},{"$f":"$A28*E$3","v":46.8},{"$f":"$A28*F$3","v":23.4},{"$f":"$A28*G$3","v":15.6},{"$f":"$A28*H$3","v":11.7},{"$f":"$A28*I$3","v":9.359999999999999},{"$f":"$A28*J$3","v":7.8},{"$f":"$A28*K$3","v":6.630000000000001}]
[1350,{"$f":"$A29*B$3","v":972},{"$f":"$A29*C$3","v":27},{"$f":"$A29*D$3","v":97.19999999999999},{"$f":"$A29*E$3","v":48.59999999999999},{"$f":"$A29*F$3","v":24.3},{"$f":"$A29*G$3","v":16.2},{"$f":"$A29*H$3","v":12.15},{"$f":"$A29*I$3","v":9.719999999999999},{"$f":"$A29*J$3","v":8.1},{"$f":"$A29*K$3","v":6.885000000000001}]
[1400,{"$f":"$A30*B$3","v":1008},{"$f":"$A30*C$3","v":28},{"$f":"$A30*D$3","v":100.8},{"$f":"$A30*E$3","v":50.4},{"$f":"$A30*F$3","v":25.2},{"$f":"$A30*G$3","v":16.8},{"$f":"$A30*H$3","v":12.6},{"$f":"$A30*I$3","v":10.08},{"$f":"$A30*J$3","v":8.4},{"$f":"$A30*K$3","v":7.140000000000001}]

{"sheet":"Natural Yeast - Drawings","index":3,"n_rows":0,"n_cols":0,"rows_kept":0,"cut":false,"hidden":false,"merged":[]}

{"sheet":"Dry Yeast - Pizza","index":4,"n_rows":30,"n_cols":12,"rows_kept":30,"cut":false,"hidden":false,"merged":[[0,0,0,11],[17,0,22,0],[10,0,16,0],[23,0,29,0],[3,0,9,0]]}
["Pizza"]
[null,"F","W","S","Y.1H","Y.2H","Y.3H","Y.4H","Y.5H","Y.6H","Y.7H","Y.8H"]
[null,1,0.7,0.02,{"$f":"'Natural Yeast - Pizza'!E$3/3","v":0.012},{"$f":"'Natural Yeast - Pizza'!F$3/3","v":0.005999999999999999},{"$f":"'Natural Yeast - Pizza'!G$3/3","v":0.004},{"$f":"'Natural Yeast - Pizza'!H$3/3","v":0.003},{"$f":"'Natural Yeast - Pizza'!I$3/3","v":0.0024},{"$f":"'Natural Yeast - Pizza'!J$3/3","v":0.002},{"$f":"'Natural Yeast - Pizza'!K$3/3","v":0.0017},{"$f":"'Natural Yeast - Pizza'!L$3/3","v":0.0015}]
[null,120,{"$f":"$B4*C$3","v":84},{"$f":"$B4*D$3","v":2.4},{"$f":"'Natural Yeast - Pizza'!E4/3","v":1.44},{"$f":"'Natural Yeast - Pizza'!F4/3","v":0.7199999999999999},{"$f":"'Natural Yeast - Pizza'!G4/3","v":0.48},{"$f":"'Natural Yeast - Pizza'!H4/3","v":0.3599999999999999},{"$f":"'Natural Yeast - Pizza'!I4/3","v":0.288},{"$f":"'Natural Yeast - Pizza'!J4/3","v":0.24},{"$f":"'Natural Yeast - Pizza'!K4/3","v":0.204},{"$f":"'Natural Yeast - Pizza'!L4/3","v":0.18}]
[null,130,{"$f":"$B5*C$3","v":91},{"$f":"$B5*D$3","v":2.6},{"$f":"'Natural Yeast - Pizza'!E5/3","v":1.56},{"$f":"'Natural Yeast - Pizza'!F5/3","v":0.7799999999999999},{"$f":"'Natural Yeast - Pizza'!G5/3","v":0.52},{"$f":"'Natural Yeast - Pizza'!H5/3","v":0.39},{"$f":"'Natural Yeast - Pizza'!I5/3","v":0.312},{"$f":"'Natural Yeast - Pizza'!J5/3","v":0.26},{"$f":"'Natural Yeast - Pizza'!K5/3","v":0.221},{"$f":"'Natural Yeast - Pizza'!L5/3","v":0.195}]
[null,140,{"$f":"$B6*C$3","v":98},{"$f":"$B6*D$3","v":2.8},{"$f":"'Natural Yeast - Pizza'!E6/3","v":1.68},{"$f":"'Natural Yeast - Pizza'!F6/3","v":0.84},{"$f":"'Natural Yeast - Pizza'!G6/3","v":0.5599999999999999},{"$f":"'Natural Yeast - Pizza'!H6/3","v":0.42},{"$f":"'Natural Yeast - Pizza'!I6/3","v":0.336},{"$f":"'Natural Yeast - Pizza'!J6/3","v":0.28},{"$f":"'Natural Yeast - Pizza'!K6/3","v":0.238},{"$f":"'Natural Yeast - Pizza'!L6/3","v":0.21}]
[null,150,{"$f":"$B7*C$3","v":105},{"$f":"$B7*D$3","v":3},{"$f":"'Natural Yeast - Pizza'!E7/3","v":1.8},{"$f":"'Natural Yeast - Pizza'!F7/3","v":0.8999999999999999},{"$f":"'Natural Yeast - Pizza'!G7/3","v":0.6},{"$f":"'Natural Yeast - Pizza'!H7/3","v":0.45},{"$f":"'Natural Yeast - Pizza'!I7/3","v":0.36},{"$f":"'Natural Yeast - Pizza'!J7/3","v":0.3},{"$f":"'Natural Yeast - Pizza'!K7/3","v":0.255},{"$f":"'Natural Yeast - Pizza'!L7/3","v":0.225}]
[null,160,{"$f":"$B8*C$3","v":112},{"$f":"$B8*D$3","v":3.2},{"$f":"'Natural Yeast - Pizza'!E8/3","v":1.92},{"$f":"'Natural Yeast - Pizza'!F8/3","v":0.96},{"$f":"'Natural Yeast - Pizza'!G8/3","v":0.64},{"$f":"'Natural Yeast - Pizza'!H8/3","v":0.48},{"$f":"'Natural Yeast - Pizza'!I8/3","v":0.384},{"$f":"'Natural Yeast - Pizza'!J8/3","v":0.32},{"$f":"'Natural Yeast - Pizza'!K8/3","v":0.272},{"$f":"'Natural Yeast - Pizza'!L8/3","v":0.24}]
[null,170,{"$f":"$B9*C$3","v":119},{"$f":"$B9*D$3","v":3.4},{"$f":"'Natural Yeast - Pizza'!E9/3","v":2.04},{"$f":"'Natural Yeast - Pizza'!F9/3","v":1.02},{"$f":"'Natural Yeast - Pizza'!G9/3","v":0.68},{"$f":"'Natural Yeast - Pizza'!H9/3","v":0.5099999999999999},{"$f":"'Natural Yeast - Pizza'!I9/3","v":0.408},{"$f":"'Natural Yeast - Pizza'!J9/3","v":0.34},{"$f":"'Natural Yeast - Pizza'!K9/3","v":0.289},{"$f":"'Natural Yeast - Pizza'!L9/3","v":0.2549999999999999}]
[null,180,{"$f":"$B10*C$3","v":126},{"$f":"$B10*D$3","v":3.6},{"$f":"'Natural Yeast - Pizza'!E10/3","v":2.16},{"$f":"'Natural Yeast - Pizza'!F10/3","v":1.08},{"$f":"'Natural Yeast - Pizza'!G10/3","v":0.7200000000000001},{"$f":"'Natural Yeast - Pizza'!H10/3","v":0.5399999999999999},{"$f":"'Natural Yeast - Pizza'!I10/3","v":0.432},{"$f":"'Natural Yeast - Pizza'!J10/3","v":0.36},{"$f":"'Natural Yeast - Pizza'!K10/3","v":0.306},{"$f":"'Natural Yeast - Pizza'!L10/3","v":0.27}]
[null,{"$f":"B4*2","v":240},{"$f":"$B11*C$3","v":168},{"$f":"$B11*D$3","v":4.8},{"$f":"'Natural Yeast - Pizza'!E11/3","v":2.879999999999999},{"$f":"'Natural Yeast - Pizza'!F11/3","v":1.44},{"$f":"'Natural Yeast - Pizza'!G11/3","v":0.96},{"$f":"'Natural Yeast - Pizza'!H11/3","v":0.7199999999999999},{"$f":"'Natural Yeast - Pizza'!I11/3","v":0.576},{"$f":"'Natural Yeast - Pizza'!J11/3","v":0.48},{"$f":"'Natural Yeast - Pizza'!K11/3","v":0.4080000000000001},{"$f":"'Natural Yeast - Pizza'!L11/3","v":0.3599999999999999}]
[null,{"$f":"B5*2","v":260},{"$f":"$B12*C$3","v":182},{"$f":"$B12*D$3","v":5.2},{"$f":"'Natural Yeast - Pizza'!E12/3","v":3.12},{"$f":"'Natural Yeast - Pizza'!F12/3","v":1.56},{"$f":"'Natural Yeast - Pizza'!G12/3","v":1.04},{"$f":"'Natural Yeast - Pizza'!H12/3","v":0.7799999999999999},{"$f":"'Natural Yeast - Pizza'!I12/3","v":0.624},{"$f":"'Natural Yeast - Pizza'!J12/3","v":0.52},{"$f":"'Natural Yeast - Pizza'!K12/3","v":0.442},{"$f":"'Natural Yeast - Pizza'!L12/3","v":0.39}]
[null,{"$f":"B6*2","v":280},{"$f":"$B13*C$3","v":196},{"$f":"$B13*D$3","v":5.600000000000001},{"$f":"'Natural Yeast - Pizza'!E13/3","v":3.36},{"$f":"'Natural Yeast - Pizza'!F13/3","v":1.68},{"$f":"'Natural Yeast - Pizza'!G13/3","v":1.12},{"$f":"'Natural Yeast - Pizza'!H13/3","v":0.84},{"$f":"'Natural Yeast - Pizza'!I13/3","v":0.672},{"$f":"'Natural Yeast - Pizza'!J13/3","v":0.5599999999999999},{"$f":"'Natural Yeast - Pizza'!K13/3","v":0.476},{"$f":"'Natural Yeast - Pizza'!L13/3","v":0.42}]
[null,{"$f":"B7*2","v":300},{"$f":"$B14*C$3","v":210},{"$f":"$B14*D$3","v":6},{"$f":"'Natural Yeast - Pizza'!E14/3","v":3.6},{"$f":"'Natural Yeast - Pizza'!F14/3","v":1.8},{"$f":"'Natural Yeast - Pizza'!G14/3","v":1.2},{"$f":"'Natural Yeast - Pizza'!H14/3","v":0.8999999999999999},{"$f":"'Natural Yeast - Pizza'!I14/3","v":0.7200000000000001},{"$f":"'Natural Yeast - Pizza'!J14/3","v":0.6},{"$f":"'Natural Yeast - Pizza'!K14/3","v":0.51},{"$f":"'Natural Yeast - Pizza'!L14/3","v":0.45}]
[null,{"$f":"B8*2","v":320},{"$f":"$B15*C$3","v":224},{"$f":"$B15*D$3","v":6.4},{"$f":"'Natural Yeast - Pizza'!E15/3","v":3.84},{"$f":"'Natural Yeast - Pizza'!F15/3","v":1.92},{"$f":"'Natural Yeast - Pizza'!G15/3","v":1.28},{"$f":"'Natural Yeast - Pizza'!H15/3","v":0.96},{"$f":"'Natural Yeast - Pizza'!I15/3","v":0.7679999999999999},{"$f":"'Natural Yeast - Pizza'!J15/3","v":0.64},{"$f":"'Natural Yeast - Pizza'!K15/3","v":0.544},{"$f":"'Natural Yeast - Pizza'!L15/3","v":0.48}]
[null,{"$f":"B9*2","v":340},{"$f":"$B16*C$3","v":238},{"$f":"$B16*D$3","v":6.8},{"$f":"'Natural Yeast - Pizza'!E16/3","v":4.079999999999999},{"$f":"'Natural Yeast - Pizza'!F16/3","v":2.04},{"$f":"'Natural Yeast - Pizza'!G16/3","v":1.36},{"$f":"'Natural Yeast - Pizza'!H16/3","v":1.02},{"$f":"'Natural Yeast - Pizza'!I16/3","v":0.8159999999999999},{"$f":"'Natural Yeast - Pizza'!J16/3","v":0.68},{"$f":"'Natural Yeast - Pizza'!K16/3","v":0.5780000000000001},{"$f":"'Natural Yeast - Pizza'!L16/3","v":0.5099999999999999}]
[null,{"$f":"B10*2","v":360},{"$f":"$B17*C$3","v":252},{"$f":"$B17*D$3","v":7.2},{"$f":"'Natural Yeast - Pizza'!E17/3","v":4.319999999999999},{"$f":"'Natural Yeast - Pizza'!F17/3","v":2.16},{"$f":"'Natural Yeast - Pizza'!G17/3","v":1.44},{"$f":"'Natural Yeast - Pizza'!H17/3","v":1.08},{"$f":"'Natural Yeast - Pizza'!I17/3","v":0.864},{"$f":"'Natural Yeast - Pizza'!J17/3","v":0.7200000000000001},{"$f":"'Natural Yeast - Pizza'!K17/3","v":0.612},{"$f":"'Natural Yeast - Pizza'!L17/3","v":0.5399999999999999}]
[null,{"$f":"B5*3","v":390},{"$f":"$B18*C$3","v":273},{"$f":"$B18*D$3","v":7.8},{"$f":"'Natural Yeast - Pizza'!E18/3","v":4.68},{"$f":"'Natural Yeast - Pizza'!F18/3","v":2.34},{"$f":"'Natural Yeast - Pizza'!G18/3","v":1.56},{"$f":"'Natural Yeast - Pizza'!H18/3","v":1.17},{"$f":"'Natural Yeast - Pizza'!I18/3","v":0.9359999999999999},{"$f":"'Natural Yeast - Pizza'!J18/3","v":0.7799999999999999},{"$f":"'Natural Yeast - Pizza'!K18/3","v":0.663},{"$f":"'Natural Yeast - Pizza'!L18/3","v":0.585}]
[null,{"$f":"B6*3","v":420},{"$f":"$B19*C$3","v":294},{"$f":"$B19*D$3","v":8.4},{"$f":"'Natural Yeast - Pizza'!E19/3","v":5.04},{"$f":"'Natural Yeast - Pizza'!F19/3","v":2.52},{"$f":"'Natural Yeast - Pizza'!G19/3","v":1.68},{"$f":"'Natural Yeast - Pizza'!H19/3","v":1.26},{"$f":"'Natural Yeast - Pizza'!I19/3","v":1.008},{"$f":"'Natural Yeast - Pizza'!J19/3","v":0.84},{"$f":"'Natural Yeast - Pizza'!K19/3","v":0.7140000000000001},{"$f":"'Natural Yeast - Pizza'!L19/3","v":0.63}]
[null,{"$f":"B7*3","v":450},{"$f":"$B20*C$3","v":315},{"$f":"$B20*D$3","v":9},{"$f":"'Natural Yeast - Pizza'!E20/3","v":5.399999999999999},{"$f":"'Natural Yeast - Pizza'!F20/3","v":2.7},{"$f":"'Natural Yeast - Pizza'!G20/3","v":1.8},{"$f":"'Natural Yeast - Pizza'!H20/3","v":1.35},{"$f":"'Natural Yeast - Pizza'!I20/3","v":1.08},{"$f":"'Natural Yeast - Pizza'!J20/3","v":0.9},{"$f":"'Natural Yeast - Pizza'!K20/3","v":0.7650000000000001},{"$f":"'Natural Yeast - Pizza'!L20/3","v":0.6749999999999999}]
[null,{"$f":"B8*3","v":480},{"$f":"$B21*C$3","v":336},{"$f":"$B21*D$3","v":9.6},{"$f":"'Natural Yeast - Pizza'!E21/3","v":5.759999999999999},{"$f":"'Natural Yeast - Pizza'!F21/3","v":2.879999999999999},{"$f":"'Natural Yeast - Pizza'!G21/3","v":1.92},{"$f":"'Natural Yeast - Pizza'!H21/3","v":1.44},{"$f":"'Natural Yeast - Pizza'!I21/3","v":1.152},{"$f":"'Natural Yeast - Pizza'!J21/3","v":0.96},{"$f":"'Natural Yeast - Pizza'!K21/3","v":0.8160000000000002},{"$f":"'Natural Yeast - Pizza'!L21/3","v":0.7199999999999999}]
[null,{"$f":"B9*3","v":510},{"$f":"$B22*C$3","v":357},{"$f":"$B22*D$3","v":10.2},{"$f":"'Natural Yeast - Pizza'!E22/3","v":6.12},{"$f":"'Natural Yeast - Pizza'!F22/3","v":3.06},{"$f":"'Natural Yeast - Pizza'!G22/3","v":2.04},{"$f":"'Natural Yeast - Pizza'!H22/3","v":1.53},{"$f":"'Natural Yeast - Pizza'!I22/3","v":1.224},{"$f":"'Natural Yeast - Pizza'!J22/3","v":1.02},{"$f":"'Natural Yeast - Pizza'!K22/3","v":0.867},{"$f":"'Natural Yeast - Pizza'!L22/3","v":0.765}]
[null,{"$f":"B10*3","v":540},{"$f":"$B23*C$3","v":378},{"$f":"$B23*D$3","v":10.8},{"$f":"'Natural Yeast - Pizza'!E23/3","v":6.48},{"$f":"'Natural Yeast - Pizza'!F23/3","v":3.24},{"$f":"'Natural Yeast - Pizza'!G23/3","v":2.16},{"$f":"'Natural Yeast - Pizza'!H23/3","v":1.62},{"$f":"'Natural Yeast - Pizza'!I23/3","v":1.296},{"$f":"'Natural Yeast - Pizza'!J23/3","v":1.08},{"$f":"'Natural Yeast - Pizza'!K23/3","v":0.918},{"$f":"'Natural Yeast - Pizza'!L23/3","v":0.8099999999999999}]
[null,{"$f":"B4*4","v":480},{"$f":"$B24*C$3","v":336},{"$f":"$B24*D$3","v":9.6},{"$f":"'Natural Yeast - Pizza'!E24/3","v":5.759999999999999},{"$f":"'Natural Yeast - Pizza'!F24/3","v":2.879999999999999},{"$f":"'Natural Yeast - Pizza'!G24/3","v":1.92},{"$f":"'Natural Yeast - Pizza'!H24/3","v":1.44},{"$f":"'Natural Yeast - Pizza'!I24/3","v":1.152},{"$f":"'Natural Yeast - Pizza'!J24/3","v":0.96},{"$f":"'Natural Yeast - Pizza'!K24/3","v":0.8160000000000002},{"$f":"'Natural Yeast - Pizza'!L24/3","v":0.7199999999999999}]
[null,{"$f":"B5*4","v":520},{"$f":"$B25*C$3","v":364},{"$f":"$B25*D$3","v":10.4},{"$f":"'Natural Yeast - Pizza'!E25/3","v":6.239999999999999},{"$f":"'Natural Yeast - Pizza'!F25/3","v":3.12},{"$f":"'Natural Yeast - Pizza'!G25/3","v":2.08},{"$f":"'Natural Yeast - Pizza'!H25/3","v":1.56},{"$f":"'Natural Yeast - Pizza'!I25/3","v":1.248},{"$f":"'Natural Yeast - Pizza'!J25/3","v":1.04},{"$f":"'Natural Yeast - Pizza'!K25/3","v":0.884},{"$f":"'Natural Yeast - Pizza'!L25/3","v":0.7799999999999999}]
[null,{"$f":"B6*4","v":560},{"$f":"$B26*C$3","v":392},{"$f":"$B26*D$3","v":11.2},{"$f":"'Natural Yeast - Pizza'!E26/3","v":6.72},{"$f":"'Natural Yeast - Pizza'!F26/3","v":3.36},{"$f":"'Natural Yeast - Pizza'!G26/3","v":2.24},{"$f":"'Natural Yeast - Pizza'!H26/3","v":1.68},{"$f":"'Natural Yeast - Pizza'!I26/3","v":1.344},{"$f":"'Natural Yeast - Pizza'!J26/3","v":1.12},{"$f":"'Natural Yeast - Pizza'!K26/3","v":0.9520000000000001},{"$f":"'Natural Yeast - Pizza'!L26/3","v":0.84}]
[null,{"$f":"B7*4","v":600},{"$f":"$B27*C$3","v":420},{"$f":"$B27*D$3","v":12},{"$f":"'Natural Yeast - Pizza'!E27/3","v":7.199999999999999},{"$f":"'Natural Yeast - Pizza'!F27/3","v":3.6},{"$f":"'Natural Yeast - Pizza'!G27/3","v":2.4},{"$f":"'Natural Yeast - Pizza'!H27/3","v":1.8},{"$f":"'Natural Yeast - Pizza'!I27/3","v":1.44},{"$f":"'Natural Yeast - Pizza'!J27/3","v":1.2},{"$f":"'Natural Yeast - Pizza'!K27/3","v":1.02},{"$f":"'Natural Yeast - Pizza'!L27/3","v":0.8999999999999999}]
[null,{"$f":"B8*4","v":640},{"$f":"$B28*C$3","v":448},{"$f":"$B28*D$3","v":12.8},{"$f":"'Natural Yeast - Pizza'!E28/3","v":7.68},{"$f":"'Natural Yeast - Pizza'!F28/3","v":3.84},{"$f":"'Natural Yeast - Pizza'!G28/3","v":2.56},{"$f":"'Natural Yeast - Pizza'!H28/3","v":1.92},{"$f":"'Natural Yeast - Pizza'!I28/3","v":1.536},{"$f":"'Natural Yeast - Pizza'!J28/3","v":1.28},{"$f":"'Natural Yeast - Pizza'!K28/3","v":1.088},{"$f":"'Natural Yeast - Pizza'!L28/3","v":0.96}]
[null,{"$f":"B9*4","v":680},{"$f":"$B29*C$3","v":475.9999999999999},{"$f":"$B29*D$3","v":13.6},{"$f":"'Natural Yeast - Pizza'!E29/3","v":8.159999999999998},{"$f":"'Natural Yeast - Pizza'!F29/3","v":4.079999999999999},{"$f":"'Natural Yeast - Pizza'!G29/3","v":2.72},{"$f":"'Natural Yeast - Pizza'!H29/3","v":2.04},{"$f":"'Natural Yeast - Pizza'!I29/3","v":1.632},{"$f":"'Natural Yeast - Pizza'!J29/3","v":1.36},{"$f":"'Natural Yeast - Pizza'!K29/3","v":1.156},{"$f":"'Natural Yeast - Pizza'!L29/3","v":1.02}]
[null,{"$f":"B10*4","v":720},{"$f":"$B30*C$3","v":503.9999999999999},{"$f":"$B30*D$3","v":14.4},{"$f":"'Natural Yeast - Pizza'!E30/3","v":8.639999999999999},{"$f":"'Natural Yeast - Pizza'!F30/3","v":4.319999999999999},{"$f":"'Natural Yeast - Pizza'!G30/3","v":2.88},{"$f":"'Natural Yeast - Pizza'!H30/3","v":2.16},{"$f":"'Natural Yeast - Pizza'!I30/3","v":1.728},{"$f":"'Natural Yeast - Pizza'!J30/3","v":1.44},{"$f":"'Natural Yeast - Pizza'!K30/3","v":1.224},{"$f":"'Natural Yeast - Pizza'!L30/3","v":1.08}]

{"sheet":"Dry Yeast - Bread","index":5,"n_rows":30,"n_cols":11,"rows_kept":30,"cut":false,"hidden":false,"merged":[[0,0,0,10]]}
["Bread"]
["F","W","S","Y.1H","Y.2H","Y.3H","Y.4H","Y.5H","Y.6H","Y.7H","Y.8H"]
[1,0.72,0.02,{"$f":"'Natural Yeast - Bread'!D$3/3","v":0.024},{"$f":"'Natural Yeast - Bread'!E$3/3","v":0.012},{"$f":"'Natural Yeast - Bread'!F$3/3","v":0.005999999999999999},{"$f":"'Natural Yeast - Bread'!G$3/3","v":0.004},{"$f":"'Natural Yeast - Bread'!H$3/3","v":0.003},{"$f":"'Natural Yeast - Bread'!I$3/3","v":0.0024},{"$f":"'Natural Yeast - Bread'!J$3/3","v":0.002},{"$f":"'Natural Yeast - Bread'!K$3/3","v":0.0017}]
[100,{"$f":"$A4*B$3","v":72},{"$f":"$A4*C$3","v":2},{"$f":"'Natural Yeast - Bread'!D4/3","v":2.4},{"$f":"'Natural Yeast - Bread'!E4/3","v":1.2},{"$f":"'Natural Yeast - Bread'!F4/3","v":0.6},{"$f":"'Natural Yeast - Bread'!G4/3","v":0.4},{"$f":"'Natural Yeast - Bread'!H4/3","v":0.3},{"$f":"'Natural Yeast - Bread'!I4/3","v":0.24},{"$f":"'Natural Yeast - Bread'!J4/3","v":0.2},{"$f":"'Natural Yeast - Bread'!K4/3","v":0.17}]
[150,{"$f":"$A5*B$3","v":108},{"$f":"$A5*C$3","v":3},{"$f":"'Natural Yeast - Bread'!D5/3","v":3.6},{"$f":"'Natural Yeast - Bread'!E5/3","v":1.8},{"$f":"'Natural Yeast - Bread'!F5/3","v":0.8999999999999999},{"$f":"'Natural Yeast - Bread'!G5/3","v":0.6},{"$f":"'Natural Yeast - Bread'!H5/3","v":0.45},{"$f":"'Natural Yeast - Bread'!I5/3","v":0.36},{"$f":"'Natural Yeast - Bread'!J5/3","v":0.3},{"$f":"'Natural Yeast - Bread'!K5/3","v":0.255}]
[200,{"$f":"$A6*B$3","v":144},{"$f":"$A6*C$3","v":4},{"$f":"'Natural Yeast - Bread'!D6/3","v":4.8},{"$f":"'Natural Yeast - Bread'!E6/3","v":2.4},{"$f":"'Natural Yeast - Bread'!F6/3","v":1.2},{"$f":"'Natural Yeast - Bread'!G6/3","v":0.7999999999999999},{"$f":"'Natural Yeast - Bread'!H6/3","v":0.6},{"$f":"'Natural Yeast - Bread'!I6/3","v":0.48},{"$f":"'Natural Yeast - Bread'!J6/3","v":0.4},{"$f":"'Natural Yeast - Bread'!K6/3","v":0.34}]
[250,{"$f":"$A7*B$3","v":180},{"$f":"$A7*C$3","v":5},{"$f":"'Natural Yeast - Bread'!D7/3","v":6},{"$f":"'Natural Yeast - Bread'!E7/3","v":3},{"$f":"'Natural Yeast - Bread'!F7/3","v":1.5},{"$f":"'Natural Yeast - Bread'!G7/3","v":1},{"$f":"'Natural Yeast - Bread'!H7/3","v":0.75},{"$f":"'Natural Yeast - Bread'!I7/3","v":0.6},{"$f":"'Natural Yeast - Bread'!J7/3","v":0.5},{"$f":"'Natural Yeast - Bread'!K7/3","v":0.425}]
[300,{"$f":"$A8*B$3","v":216},{"$f":"$A8*C$3","v":6},{"$f":"'Natural Yeast - Bread'!D8/3","v":7.199999999999999},{"$f":"'Natural Yeast - Bread'!E8/3","v":3.6},{"$f":"'Natural Yeast - Bread'!F8/3","v":1.8},{"$f":"'Natural Yeast - Bread'!G8/3","v":1.2},{"$f":"'Natural Yeast - Bread'!H8/3","v":0.8999999999999999},{"$f":"'Natural Yeast - Bread'!I8/3","v":0.7200000000000001},{"$f":"'Natural Yeast - Bread'!J8/3","v":0.6},{"$f":"'Natural Yeast - Bread'!K8/3","v":0.51}]
[350,{"$f":"$A9*B$3","v":252},{"$f":"$A9*C$3","v":7},{"$f":"'Natural Yeast - Bread'!D9/3","v":8.4},{"$f":"'Natural Yeast - Bread'!E9/3","v":4.2},{"$f":"'Natural Yeast - Bread'!F9/3","v":2.1},{"$f":"'Natural Yeast - Bread'!G9/3","v":1.4},{"$f":"'Natural Yeast - Bread'!H9/3","v":1.05},{"$f":"'Natural Yeast - Bread'!I9/3","v":0.84},{"$f":"'Natural Yeast - Bread'!J9/3","v":0.7000000000000001},{"$f":"'Natural Yeast - Bread'!K9/3","v":0.5950000000000001}]
[400,{"$f":"$A10*B$3","v":288},{"$f":"$A10*C$3","v":8},{"$f":"'Natural Yeast - Bread'!D10/3","v":9.6},{"$f":"'Natural Yeast - Bread'!E10/3","v":4.8},{"$f":"'Natural Yeast - Bread'!F10/3","v":2.4},{"$f":"'Natural Yeast - Bread'!G10/3","v":1.6},{"$f":"'Natural Yeast - Bread'!H10/3","v":1.2},{"$f":"'Natural Yeast - Bread'!I10/3","v":0.96},{"$f":"'Natural Yeast - Bread'!J10/3","v":0.7999999999999999},{"$f":"'Natural Yeast - Bread'!K10/3","v":0.68}]
[450,{"$f":"$A11*B$3","v":324},{"$f":"$A11*C$3","v":9},{"$f":"'Natural Yeast - Bread'!D11/3","v":10.8},{"$f":"'Natural Yeast - Bread'!E11/3","v":5.399999999999999},{"$f":"'Natural Yeast - Bread'!F11/3","v":2.7},{"$f":"'Natural Yeast - Bread'!G11/3","v":1.8},{"$f":"'Natural Yeast - Bread'!H11/3","v":1.35},{"$f":"'Natural Yeast - Bread'!I11/3","v":1.08},{"$f":"'Natural Yeast - Bread'!J11/3","v":0.9},{"$f":"'Natural Yeast - Bread'!K11/3","v":0.7650000000000001}]
[500,{"$f":"$A12*B$3","v":360},{"$f":"$A12*C$3","v":10},{"$f":"'Natural Yeast - Bread'!D12/3","v":12},{"$f":"'Natural Yeast - Bread'!E12/3","v":6},{"$f":"'Natural Yeast - Bread'!F12/3","v":3},{"$f":"'Natural Yeast - Bread'!G12/3","v":2},{"$f":"'Natural Yeast - Bread'!H12/3","v":1.5},{"$f":"'Natural Yeast - Bread'!I12/3","v":1.2},{"$f":"'Natural Yeast - Bread'!J12/3","v":1},{"$f":"'Natural Yeast - Bread'!K12/3","v":0.8500000000000001}]
[550,{"$f":"$A13*B$3","v":396},{"$f":"$A13*C$3","v":11},{"$f":"'Natural Yeast - Bread'!D13/3","v":13.2},{"$f":"'Natural Yeast - Bread'!E13/3","v":6.599999999999999},{"$f":"'Natural Yeast - Bread'!F13/3","v":3.299999999999999},{"$f":"'Natural Yeast - Bread'!G13/3","v":2.2},{"$f":"'Natural Yeast - Bread'!H13/3","v":1.65},{"$f":"'Natural Yeast - Bread'!I13/3","v":1.32},{"$f":"'Natural Yeast - Bread'!J13/3","v":1.1},{"$f":"'Natural Yeast - Bread'!K13/3","v":0.9350000000000001}]
[600,{"$f":"$A14*B$3","v":432},{"$f":"$A14*C$3","v":12},{"$f":"'Natural Yeast - Bread'!D14/3","v":14.4},{"$f":"'Natural Yeast - Bread'!E14/3","v":7.199999999999999},{"$f":"'Natural Yeast - Bread'!F14/3","v":3.6},{"$f":"'Natural Yeast - Bread'!G14/3","v":2.4},{"$f":"'Natural Yeast - Bread'!H14/3","v":1.8},{"$f":"'Natural Yeast - Bread'!I14/3","v":1.44},{"$f":"'Natural Yeast - Bread'!J14/3","v":1.2},{"$f":"'Natural Yeast - Bread'!K14/3","v":1.02}]
[650,{"$f":"$A15*B$3","v":468},{"$f":"$A15*C$3","v":13},{"$f":"'Natural Yeast - Bread'!D15/3","v":15.6},{"$f":"'Natural Yeast - Bread'!E15/3","v":7.8},{"$f":"'Natural Yeast - Bread'!F15/3","v":3.9},{"$f":"'Natural Yeast - Bread'!G15/3","v":2.6},{"$f":"'Natural Yeast - Bread'!H15/3","v":1.95},{"$f":"'Natural Yeast - Bread'!I15/3","v":1.56},{"$f":"'Natural Yeast - Bread'!J15/3","v":1.3},{"$f":"'Natural Yeast - Bread'!K15/3","v":1.105}]
[700,{"$f":"$A16*B$3","v":504},{"$f":"$A16*C$3","v":14},{"$f":"'Natural Yeast - Bread'!D16/3","v":16.8},{"$f":"'Natural Yeast - Bread'!E16/3","v":8.4},{"$f":"'Natural Yeast - Bread'!F16/3","v":4.2},{"$f":"'Natural Yeast - Bread'!G16/3","v":2.8},{"$f":"'Natural Yeast - Bread'!H16/3","v":2.1},{"$f":"'Natural Yeast - Bread'!I16/3","v":1.68},{"$f":"'Natural Yeast - Bread'!J16/3","v":1.4},{"$f":"'Natural Yeast - Bread'!K16/3","v":1.19}]
[750,{"$f":"$A17*B$3","v":540},{"$f":"$A17*C$3","v":15},{"$f":"'Natural Yeast - Bread'!D17/3","v":18},{"$f":"'Natural Yeast - Bread'!E17/3","v":8.999999999999998},{"$f":"'Natural Yeast - Bread'!F17/3","v":4.499999999999999},{"$f":"'Natural Yeast - Bread'!G17/3","v":3},{"$f":"'Natural Yeast - Bread'!H17/3","v":2.25},{"$f":"'Natural Yeast - Bread'!I17/3","v":1.8},{"$f":"'Natural Yeast - Bread'!J17/3","v":1.5},{"$f":"'Natural Yeast - Bread'!K17/3","v":1.275}]
[800,{"$f":"$A18*B$3","v":576},{"$f":"$A18*C$3","v":16},{"$f":"'Natural Yeast - Bread'!D18/3","v":19.2},{"$f":"'Natural Yeast - Bread'!E18/3","v":9.6},{"$f":"'Natural Yeast - Bread'!F18/3","v":4.8},{"$f":"'Natural Yeast - Bread'!G18/3","v":3.2},{"$f":"'Natural Yeast - Bread'!H18/3","v":2.4},{"$f":"'Natural Yeast - Bread'!I18/3","v":1.92},{"$f":"'Natural Yeast - Bread'!J18/3","v":1.6},{"$f":"'Natural Yeast - Bread'!K18/3","v":1.36}]
[850,{"$f":"$A19*B$3","v":612},{"$f":"$A19*C$3","v":17},{"$f":"'Natural Yeast - Bread'!D19/3","v":20.4},{"$f":"'Natural Yeast - Bread'!E19/3","v":10.2},{"$f":"'Natural Yeast - Bread'!F19/3","v":5.1},{"$f":"'Natural Yeast - Bread'!G19/3","v":3.4},{"$f":"'Natural Yeast - Bread'!H19/3","v":2.55},{"$f":"'Natural Yeast - Bread'!I19/3","v":2.04},{"$f":"'Natural Yeast - Bread'!J19/3","v":1.7},{"$f":"'Natural Yeast - Bread'!K19/3","v":1.445}]
[900,{"$f":"$A20*B$3","v":648},{"$f":"$A20*C$3","v":18},{"$f":"'Natural Yeast - Bread'!D20/3","v":21.6},{"$f":"'Natural Yeast - Bread'!E20/3","v":10.8},{"$f":"'Natural Yeast - Bread'!F20/3","v":5.399999999999999},{"$f":"'Natural Yeast - Bread'!G20/3","v":3.6},{"$f":"'Natural Yeast - Bread'!H20/3","v":2.7},{"$f":"'Natural Yeast - Bread'!I20/3","v":2.16},{"$f":"'Natural Yeast - Bread'!J20/3","v":1.8},{"$f":"'Natural Yeast - Bread'!K20/3","v":1.53}]
[950,{"$f":"$A21*B$3","v":684},{"$f":"$A21*C$3","v":19},{"$f":"'Natural Yeast - Bread'!D21/3","v":22.8},{"$f":"'Natural Yeast - Bread'!E21/3","v":11.4},{"$f":"'Natural Yeast - Bread'!F21/3","v":5.699999999999999},{"$f":"'Natural Yeast - Bread'!G21/3","v":3.8},{"$f":"'Natural Yeast - Bread'!H21/3","v":2.85},{"$f":"'Natural Yeast - Bread'!I21/3","v":2.28},{"$f":"'Natural Yeast - Bread'!J21/3","v":1.9},{"$f":"'Natural Yeast - Bread'!K21/3","v":1.615}]
[1000,{"$f":"$A22*B$3","v":720},{"$f":"$A22*C$3","v":20},{"$f":"'Natural Yeast - Bread'!D22/3","v":24},{"$f":"'Natural Yeast - Bread'!E22/3","v":12},{"$f":"'Natural Yeast - Bread'!F22/3","v":6},{"$f":"'Natural Yeast - Bread'!G22/3","v":4},{"$f":"'Natural Yeast - Bread'!H22/3","v":3},{"$f":"'Natural Yeast - Bread'!I22/3","v":2.4},{"$f":"'Natural Yeast - Bread'!J22/3","v":2},{"$f":"'Natural Yeast - Bread'!K22/3","v":1.7}]
[1050,{"$f":"$A23*B$3","v":756},{"$f":"$A23*C$3","v":21},{"$f":"'Natural Yeast - Bread'!D23/3","v":25.2},{"$f":"'Natural Yeast - Bread'!E23/3","v":12.6},{"$f":"'Natural Yeast - Bread'!F23/3","v":6.3},{"$f":"'Natural Yeast - Bread'!G23/3","v":4.2},{"$f":"'Natural Yeast - Bread'!H23/3","v":3.15},{"$f":"'Natural Yeast - Bread'!I23/3","v":2.52},{"$f":"'Natural Yeast - Bread'!J23/3","v":2.1},{"$f":"'Natural Yeast - Bread'!K23/3","v":1.785}]
[1100,{"$f":"$A24*B$3","v":792},{"$f":"$A24*C$3","v":22},{"$f":"'Natural Yeast - Bread'!D24/3","v":26.4},{"$f":"'Natural Yeast - Bread'!E24/3","v":13.2},{"$f":"'Natural Yeast - Bread'!F24/3","v":6.599999999999999},{"$f":"'Natural Yeast - Bread'!G24/3","v":4.4},{"$f":"'Natural Yeast - Bread'!H24/3","v":3.299999999999999},{"$f":"'Natural Yeast - Bread'!I24/3","v":2.64},{"$f":"'Natural Yeast - Bread'!J24/3","v":2.2},{"$f":"'Natural Yeast - Bread'!K24/3","v":1.87}]
[1150,{"$f":"$A25*B$3","v":828},{"$f":"$A25*C$3","v":23},{"$f":"'Natural Yeast - Bread'!D25/3","v":27.6},{"$f":"'Natural Yeast - Bread'!E25/3","v":13.8},{"$f":"'Natural Yeast - Bread'!F25/3","v":6.899999999999999},{"$f":"'Natural Yeast - Bread'!G25/3","v":4.600000000000001},{"$f":"'Natural Yeast - Bread'!H25/3","v":3.45},{"$f":"'Natural Yeast - Bread'!I25/3","v":2.76},{"$f":"'Natural Yeast - Bread'!J25/3","v":2.3},{"$f":"'Natural Yeast - Bread'!K25/3","v":1.955}]
[1200,{"$f":"$A26*B$3","v":864},{"$f":"$A26*C$3","v":24},{"$f":"'Natural Yeast - Bread'!D26/3","v":28.8},{"$f":"'Natural Yeast - Bread'!E26/3","v":14.4},{"$f":"'Natural Yeast - Bread'!F26/3","v":7.199999999999999},{"$f":"'Natural Yeast - Bread'!G26/3","v":4.8},{"$f":"'Natural Yeast - Bread'!H26/3","v":3.6},{"$f":"'Natural Yeast - Bread'!I26/3","v":2.88},{"$f":"'Natural Yeast - Bread'!J26/3","v":2.4},{"$f":"'Natural Yeast - Bread'!K26/3","v":2.04}]
[1250,{"$f":"$A27*B$3","v":900},{"$f":"$A27*C$3","v":25},{"$f":"'Natural Yeast - Bread'!D27/3","v":30},{"$f":"'Natural Yeast - Bread'!E27/3","v":15},{"$f":"'Natural Yeast - Bread'!F27/3","v":7.5},{"$f":"'Natural Yeast - Bread'!G27/3","v":5},{"$f":"'Natural Yeast - Bread'!H27/3","v":3.75},{"$f":"'Natural Yeast - Bread'!I27/3","v":3},{"$f":"'Natural Yeast - Bread'!J27/3","v":2.5},{"$f":"'Natural Yeast - Bread'!K27/3","v":2.125}]
[1300,{"$f":"$A28*B$3","v":936},{"$f":"$A28*C$3","v":26},{"$f":"'Natural Yeast - Bread'!D28/3","v":31.2},{"$f":"'Natural Yeast - Bread'!E28/3","v":15.6},{"$f":"'Natural Yeast - Bread'!F28/3","v":7.8},{"$f":"'Natural Yeast - Bread'!G28/3","v":5.2},{"$f":"'Natural Yeast - Bread'!H28/3","v":3.9},{"$f":"'Natural Yeast - Bread'!I28/3","v":3.12},{"$f":"'Natural Yeast - Bread'!J28/3","v":2.6},{"$f":"'Natural Yeast - Bread'!K28/3","v":2.21}]
[1350,{"$f":"$A29*B$3","v":972},{"$f":"$A29*C$3","v":27},{"$f":"'Natural Yeast - Bread'!D29/3","v":32.4},{"$f":"'Natural Yeast - Bread'!E29/3","v":16.2},{"$f":"'Natural Yeast - Bread'!F29/3","v":8.1},{"$f":"'Natural Yeast - Bread'!G29/3","v":5.399999999999999},{"$f":"'Natural Yeast - Bread'!H29/3","v":4.05},{"$f":"'Natural Yeast - Bread'!I29/3","v":3.24},{"$f":"'Natural Yeast - Bread'!J29/3","v":2.7},{"$f":"'Natural Yeast - Bread'!K29/3","v":2.295}]
[1400,{"$f":"$A30*B$3","v":1008},{"$f":"$A30*C$3","v":28},{"$f":"'Natural Yeast - Bread'!D30/3","v":33.6},{"$f":"'Natural Yeast - Bread'!E30/3","v":16.8},{"$f":"'Natural Yeast - Bread'!F30/3","v":8.4},{"$f":"'Natural Yeast - Bread'!G30/3","v":5.600000000000001},{"$f":"'Natural Yeast - Bread'!H30/3","v":4.2},{"$f":"'Natural Yeast - Bread'!I30/3","v":3.36},{"$f":"'Natural Yeast - Bread'!J30/3","v":2.8},{"$f":"'Natural Yeast - Bread'!K30/3","v":2.38}]

{"sheet":"Dry Yeast - Drawings","index":6,"n_rows":0,"n_cols":0,"rows_kept":0,"cut":false,"hidden":false,"merged":[]}